Workbook

Sheet E01.001 VAR. QUEJAS Y RECL
B1: -ATENCIÓN AL CIUDADANO- | E1: GESTIONAR SOLICITUDES Y CORRESPONDENCIA HOJA DE VIDA DE INDICADORES POR PROCESO | I1: Código | J1: E01.001
I2: Página | J2: 1 de
I3: Versión | J3: 5.0
I4: Vigencia | J4: 42440
A5: DEFINICIÓN DEL INDICADOR
A6: Código del Indicador | B6: E01.001 | E6: Nombre del indicador | F6: VARIACIÓN DE QUEJAS DE LA SECRETARÍA DE EDUCACION | I6: Tipo de indicador | J6: Proceso
I7: Tablero Indicadores
A9: Objetivo del indicador | B9: Determinar la disminución o incremento en el volumen de las quejas y los reclamos que recibe la Secretaría en comparación con el período anterior por área y en general de la Secretaría, con el fin de generar acciones para el mejoramiento de este indicador | G9: Pertinencia del Indicador | H9: La medición del comportamiento de las quejas y reclamos que llegan a la Secretaría, permite evaluar la eficiencia de las áreas en la prestación del servicio, conocer el grado de satisfacción de los clientes y evaluar los mecanismos de mejora del servicio, si se requiere.
A10: Unidad de medida | B10: PORCENTAJE | G10: Definición de variables de la Fórmula | H10: 1) VTQ: Variación total de quejas de la Secretaria Qt: Quejas totales recibidas en la Secretaría en el periodo actual Qt-1: Quejas totales recibidas en la Secretaría en el periodo anterior 2) VQAi: Variación de quejas del área i de la Secretaría Qit: Quejas recibidas en el área i en el periodo actual Qit-1: Quejas recibidas en el área i en el periodo anterior 3) VTR: Variación total de reclamos de la Secretaria
A11: Fórmula para su Cálculo | B11: Quejas en contra de rectores y docentes, formuladas por padres de familia, alumnos y docentes, demora en trámite de prestaciones y queja contra proinsalud atendida por el comité de prestaciones sociales, de igual manera por solicitud de traslado e inconformidad por horas extras1) VTQ= (Qt -Qt-1)/Qt-1 2) VQAi= (Qit -Qit-1)/Qit-1 3) VTR= (Rt -Rt-1)/Rt-1 4) VRAi= (Rit -Rit-1)/Rit-1 | G11: Aspectos metodológicos | H11: En la medida en que un cliente presenta una queja o reclamo, verbal o escrita, se registra en el Sistema de Atención al Ciudadano - SAC o en la Planilla de Atención al Ciudadano cuando no se cuente con este sistema. Al final de cada mes se obtiene por separado, el número total de quejas y reclamos que recibió cada área. Al compararse los resultados obtenidos con los del mes anterior, se logra visualizar el comportamiento (creciente o decreciente) que vienen presentando las quejas y reclamos presentados por los clientes. Para el análisis de los resultados, y planteamiento de mejoras en caso de que se requiera, es necesario evaluar las causales y su frecuencia.
A12: Fuente de los datos | B12: Sistema de Atención al Ciudadano - SAC | G12: Periodicidad / Fechas de medición | H12: Mensual
A13: Responsable de generar el indicador | B13: Profesional Universitario Grado 04 de Servicio de Atención al Ciudadano | G13: Responsable del seguimiento del indicador | H13: Profesional Universitario Grado 04 de Servicio de Atención al Ciudadano
A14: Línea de base | B14: 10 | E14: Meta | F14: 6 | G14: Rangos de evaluación | H14: Bueno | I14: Regular | J14: Malo
H15: <10 quejas | I15: 10 Quejas≤X=15 quejas | J15: > 15 quejas
B17: -ATENCIÓN AL CIUDADANO- | E17: GESTIONAR SOLICITUDES Y CORRESPONDENCIA HOJA DE VIDA DE INDICADORES POR PROCESO | I17: Código | J17: E01.001
I18: Página | J18: 2 de
I19: Versión | J19: 5.0
I20: Vigencia | J20: 42440
A21: SEGUIMIENTO AL INDICADOR VARIACIÓN DE QUEJAS Y RECLAMOS DE LA SECRETARÍA
A22: Fecha | B22: Meta | C22: Logro | D22: % Logro | E22: Observaciones del Resultado | F22: Acciones de mejoramiento requeridas | H22: Responsable | I22: Fecha Limite | J22: Estado Acciones
A23: 41670 | B23: 10 | C23: 7 | D23: =+(7-7)/7 -> 0 | E23: Se observar que en este mes hubo diferencia con 3 quejas frente al mes anterior, donde se visualiza que las quejas corresponden a inconformismo frente a docentes o administrativos por mal comportamiento e incumplimiento de funciones, ausentismo laboral, inconsistencias de nómina acoso laboral y solicitud de cambio de docentes | F23: Remitir las quejas contra servidores públicos a la Oficina de Control Interno Disciplinario y hacer seguimiento a quejas y reclamos desde Atención al Ciudadano y en conjunto con las demás áreas | H23: Dependencias involucradas | I23: 42035 | J23: Cumplido
A24: 41698 | B24: 10 | C24: 18 | D24: =+(C24-C23)/C23 -> 1.5714286 | E24: Existe incremento con respecto al mes anterior y se debe en primer lugar a quejas presentadas por novedades y descuentos de nòmina, de igual manera quejas contra docentes y funcionarios de Recursos Humanos | F24: Se realiza el tramite pertinentes y se hace seguimiento a las quejas presentadas desde Atenciòn al Ciudadano | H24: Dependencias involucradas | I24: 42035 | J24: Cumplido
A25: 41728 | B25: 10 | C25: 14 | D25: =+(C25-C24)/C24 -> -0.22222222 | E25: Quejas contra docentes, directivos docentes, embargos, descuentos de nòmina. | F25: Remitir las quejas contra servidores públicos a la Oficina de Control Interno Disciplinario y hacer seguimiento a quejas y reclamos desde Atención al Ciudadano y en conjunto con las demás áreas | H25: Dependencias involucradas | I25: 42035 | J25: Cumplido
A26: 31/04/2014 | B26: 10 | C26: 8 | D26: =+(C26-C25)/C25 -> -0.42857143 | E26: Quejas contra docentes, directivos docentes, maltrato a alumnos, novedades de nòmina, pago de horas extras | F26: Remitir las quejas contra servidores públicos a la Oficina de Control Interno Disciplinario y hacer seguimiento a quejas y reclamos desde Atención al Ciudadano y en conjunto con las demás áreas | H26: Dependencias involucradas | I26: 42035 | J26: Cumplido
A27: 41790 | B27: 10 | C27: 23 | D27: =+(C27-C26)/C26 -> 1.875 | E27: Quejas contra rectores, docentes, por traslados, queja contra un funcionario de atencion al ciudadano, tutelas | F27: Remitir las quejas contra servidores públicos a la Oficina de Control Interno Disciplinario y hacer seguimiento a quejas y reclamos desde Atención al Ciudadano y en conjunto con las demás áreas | H27: Dependencias involucradas | I27: 42035 | J27: Cumplido
A28: 41820 | B28: 10 | C28: 13 | D28: =+(C28-C27)/C27 -> -0.43478261 | E28: Quejas contra rectores, docentes, maltrato contra docentes y alumnos, por traslados de docentes, por inasistencia de docentes, quejas contra contratistas | F28: Remitir las quejas contra servidores públicos a la Oficina de Control Interno Disciplinario y hacer seguimiento a quejas y reclamos desde Atención al Ciudadano y en conjunto con las demás áreas | H28: Dependencias involucradas | I28: 42035 | J28: Cumplido
A29: 41851 | B29: 10 | C29: 13 | D29: =+(C29-C28)/C28 -> 0 | E29: Quejas contra rectores, docentes, maltrato contra docentes y alumnos, por traslados de docentes, por inasistencia de docentes, quejas por maltrato infantil | F29: Remitir las quejas contra servidores públicos a la Oficina de Control Interno Disciplinario y hacer seguimiento a quejas y reclamos desde Atención al Ciudadano y en conjunto con las demás áreas | H29: Dependencias involucradas | I29: 42035
A30: 43861 | B30: 10 | C30: 24 | D30: =+(24-4)/4 -> 5 | E30: Posesión de administrativos instituciones educativas, queja contra docente, presunto acoso sexual, quejas contra docentes, rector, coordinador, contra Inesur por falta de expedición de certificados, por abandono de cargo docente, negación de cupo a estudiante, por cambios de uniforme, por maltrato a docentes, acoso laboral, queja proceso Simat y cambio de docente y ausencia laboral de docentes | F30: Se realiza el tramite pertinentes y se hace seguimiento a las quejas presentadas desde Atenciòn al Ciudadano | H30: Dependencias involucradas | I30: 43861 | J30: Cumplido | N30: =24-2 -> 22
A31: 43889 | B31: 10 | C31: 20 | D31: =+(C31-C30)/C30 -> -0.16666667 | E31: Educación inclusiva, maltrato por parte de un funcionario, corrección de evaluación docente, queja en contra de docentes, acoso laboral rector de la I.E., ausentismo laboral, queja por malos manejos de recursos por parte de un rector, inconformidad PAE, queja en contra de docente orientadora, por incapacidad laboral, mal desempeño de docente y descuentos por novedad | F31: Se realiza el tramite pertinentes y se hace seguimiento a las quejas presentadas desde Atenciòn al Ciudadano | H31: Dependencias involucradas | I31: 43889 | J31: Cumplido
A32: 43921 | B32: 10 | C32: 12 | D32: =+(C32-C31)/C31 -> -0.4 | E32: Queja en contra de bibliotecaria por no laborar en jornada de la tarde, en contra de docentes, directivos docentes, por acoso escolar, por maltrato de docentes a estudiantes. por no entregar los refrigerios PAE y por no entregar y separar los alimentos por separado - contaminación de carnes y pollo. ausentismo laboral de docentes y por falta de pago de una licencia | F32: Se realiza el tramite pertinentes y se hace seguimiento a las quejas presentadas desde Atenciòn al Ciudadano | H32: Dependencias involucradas | I32: 43921 | J32: Cumplido
A33: 43951 | B33: 10 | C33: 9 | D33: =+(C33-C32)/C32 -> -0.25 | E33: Convocatoria 008 Tutores todos aprender, Promoción estudiante educación inclusiva, Queja en contra de docentes por acoso laboral, ausencia de acto de traslado por convocatoria ordinaria, inconvenientes instituciones y falta de apoyo a alumnos que no tienen conectividad, Ausentismo laboral y respuesta brindada por no aceptarlo en la convocatoria de tutores | F33: Se realiza el tramite pertinentes y se hace seguimiento a las quejas presentadas desde Atenciòn al Ciudadano | H33: Dependencias involucradas | I33: 43951 | J33: Cumplido | Q33: =24-9 -> 15
A34: 43982 | B34: 10 | C34: 24 | D34: =+(C34-C33)/C33 -> 1.6666667 | E34: Reclamos por reintegro de subsidio de transporte, inconsistencias de nómina, Elementos de Bioseguridad, Reclamo por falta de trámite de cesantías, Retiro de cesantías, no se tuvo en cuenta su hoja de vida para encargos y Falta de consignación | F34: Se realiza el tramite pertinentes y se hace seguimiento a las quejas presentadas desde Atenciòn al Ciudadano | H34: Dependencias involucradas | I34: 43982 | J34: Cumplido
A35: 44012 | B35: 10 | C35: 6 | D35: =+(C35-C34)/C34 -> -0.75 | E35: Queja por la no cancelación de auxilio de transporte, Falta de dotación tecnológica, Inconformidad asesoría formatos PAE, Cubrimiento de licencias, Queja por falta de consignación | F35: Se verificó en la plataforma SAC V2 de Atenciòn al Ciudadano donde se evidencia que no existieron quejas al respecto | H35: Ninguna dependencia | I35: 44012 | J35: Cumplido
A36: 44043 | B36: 10 | C36: 6 | D36: =+(C36-C35)/C35 -> 0 | E36: Por no dar debida respuesta, intervención por demora en tramite, Pago por licencia, Incumplimiento en tramite de pensión desde el año 2019, por traslado y por amenazas | F36: Se realiza el tramite pertinentes y se hace seguimiento a las quejas presentadas desde Atenciòn al Ciudadano | H36: Dependencias involucradas | I36: 44043 | J36: Cumplido
A37: 44074 | B37: 10 | C37: 4 | D37: =+(C37-C36)/C36 -> -0.33333333 | E37: Quejas por ausentismo, metodologia virtual, inconvenientes con eps sanitas | F37: Se realiza el tramite pertinentes y se hace seguimiento a las quejas presentadas desde Atenciòn al Ciudadano | H37: Dependencias involucradas | I37: 44074 | J37: Cumplido
A38: 44104 | B38: 10 | C38: 5 | D38: =+(C38-C37)/C37 -> 0.25 | E38: Incumplimiento en la entrega de guias por parte de docentes, ausentismo de celador, Inconsistencias de nómina por pago | F38: Se realiza el tramite pertinentes y se hace seguimiento a las quejas presentadas desde Atenciòn al Ciudadano | H38: Dependencias involucradas | I38: 44104 | J38: Cumplido | K38: Cumplido
A39: 44135 | B39: 10 | C39: 3 | D39: =+(C39-C38)/C38 -> -0.4 | E39: Queja contra docente por no dictar clases de manera virtual, Ausentismo de docentes y queja por sobre proceso de traslado | F39: Se realiza el tramite pertinentes y se hace seguimiento a las quejas presentadas desde Atenciòn al Ciudadano | H39: Dependencias involucradas | I39: 44135 | J39: Cumplido | K39: Cumplido
A40: 44165 | B40: 10 | C40: 13 | D40: =+(C40-C39)/C39 -> 3.3333333 | E40: Queja programa de alimentación escolar, queja presentada por padres de familia, Expedición incompleta de certificados, Descuentos de libranzas ya canceladas, Por falta de apoyo en proyecto de infraestructura educativa, Ausentismo laboral , traslado amenazado, Tramites de prestaciones sociales | F40: Se realiza el tramite pertinentes y se hace seguimiento a las quejas presentadas desde Atenciòn al Ciudadano | H40: Dependencias involucradas | I40: 44165 | J40: Cumplido | K40: Cumplido | N40: =10/3 -> 3.3333333
A41: 44196 | B41: 10 | C41: 7 | D41: =+(C41-C40)/C40 -> -0.46153846 | E41: Queja contra funcionaria Liliana Burgos y por retraso en revisión de carpetas de prestaciones sociales. ausentismo de programa individual para atender niños con discapacidad, Descuentos de libranzas ya canceladas, , Por falta de expedición de certificado salarial, Ausentismo laboral , Tramites de prestaciones sociales por suspensión | F41: Se realiza el tramite pertinentes y se hace seguimiento a las quejas presentadas desde Atenciòn al Ciudadano | H41: Dependencias involucradas | I41: 44196 | J41: Cumplido | K41: Cumplido

Sheet GRAFICO I QUEJAS
B2: Bueno | D2: Regular | E2: Malo
B3: <10 quejas | D3: 10 Quejas≤X=15 quejas | E3: > 15 quejas
B4: Fecha | C4: Meta | D4: Logro | E4: % Logro
B5: Enero | C5: 10 | D5: =+'E01.001 VAR. QUEJAS Y RECL'!C30 -> 24 | E5: =+'E01.001 VAR. QUEJAS Y RECL'!D30 -> 5
B6: Febrero | C6: 10 | D6: =+'E01.001 VAR. QUEJAS Y RECL'!C31 -> 20 | E6: =+(D6-D5)/D5 -> -0.16666667
B7: Marzo | C7: 10 | D7: =+'E01.001 VAR. QUEJAS Y RECL'!C32 -> 12 | E7: =+(D7-D6)/D6 -> -0.4
B8: Abril | C8: 10 | D8: =+'E01.001 VAR. QUEJAS Y RECL'!C33 -> 9 | E8: =+(D8-D7)/D7 -> -0.25
B9: Mayo | C9: 10 | D9: =+'E01.001 VAR. QUEJAS Y RECL'!C34 -> 24 | E9: =+(D9-D8)/D8 -> 1.6666667
B10: Junio | C10: 10 | D10: =+'E01.001 VAR. QUEJAS Y RECL'!C35 -> 6 | E10: =+(D10-D9)/D9 -> -0.75
B11: Julio | C11: 10 | D11: =+'E01.001 VAR. QUEJAS Y RECL'!C36 -> 6 | E11: =+(D11-D10)/D10 -> 0
B12: Agosto | C12: 10 | D12: =+'E01.001 VAR. QUEJAS Y RECL'!C37 -> 4 | E12: =+(D12-D11)/D11 -> -0.33333333
B13: Septiembre | C13: 10 | D13: =+'E01.001 VAR. QUEJAS Y RECL'!C38 -> 5 | E13: =+(D13-D12)/D12 -> 0.25
B14: Octubre | C14: 10 | D14: =+'E01.001 VAR. QUEJAS Y RECL'!C39 -> 3 | E14: =+(D14-D13)/D13 -> -0.4
B15: Noviembre | C15: 10 | D15: 13 | E15: =+(D15-D14)/D14 -> 3.3333333
B16: Diciembre | C16: 10 | D16: 7 | E16: =+(D16-D15)/D15 -> -0.46153846

Sheet E01.002 EFECT RTA
B3: -ATENCIÓN AL CIUDADANO- | E3: GESTIONAR SOLICITUDES Y CORRESPONDENCIA HOJA DE VIDA DE INDICADORES POR PROCESO | I3: Código | J3: E01.002
I4: Página | J4: 1 de
I5: Versión | J5: 4.0
I6: Vigencia | J6: 42440
A7: DEFINICIÓN DEL INDICADOR
A8: Código del Indicador | B8: E01.002 | E8: Nombre del indicador | F8: EFECTIVIDAD EN LA RESPUESTA | I8: Tipo de indicador | J8: Proceso
I9: Tablero Indicadores | J9: NO
A11: Objetivo del indicador | B11: Determinar la capacidad de respuesta a la correspondencia que es enviada por la Secretaría en los tiempos estipulados | G11: Pertinencia del Indicador | H11: Teniendo en cuenta que parte importante de la satisfacción al cliente es obtener respuesta a sus inquietudes, y más, si es en un corto tiempo, la Secretaría fija unos acuerdos niveles de servicio-ANS (con base en la ley y acuerdos internos) para dar respuesta a la correspondencia . Por lo tanto, es importante medir el cumplimiento de estos acuerdos que se ven reflejados en la oportunidad en la entrega de la respuesta a los clientes.
A12: Unidad de medida | B12: Porcentaje | G12: Definición de variables de la Fórmula | H12: ER: Efectividad de las respuestas de las comunicaciones de la Secretaría RET: Respuestas emitidas en el tiempo establecido de las comunicaciones del mes TS: Total de solicitudes recibidas por la Secretaría que requieren respuesta PRSV: Correspondencia pendiente de respuesta sin vencer en el tiempo establecido
A13: Fórmula para su Cálculo | B13: ER = (RET/ (TS - PRSV))*100 | G13: Aspectos metodológicos | H13: En el Sistema de Atención al Ciudadano - SAC, se registra la correspondencia recibida por la Secretaría de sus clientes y las fechas en que las áreas de gestión dan respuesta a los requerimientos por medio de "respuesta enviada"; además se cuenta con el reporte Dependencias por estado de finalización, donde se genera los datos necesarios para determinar si la respuesta fue entregada en los tiempos estipulados por la Secretaría. Y en el caso de que no haya sistema se utiliza la Planilla Atención al Ciudadano. Es de anotar, que en el numerador no se tienen en cuenta la correspondencia respondida por fuera del tiempo estipulado y las vencidas que aún no se han respondido.
A14: Fuente de los datos | B14: Sistema de Atención al Ciudadano - SAC y/o Planilla Atención al Ciudadano | G14: Periodicidad / Fechas de medición | H14: Mensual
A15: Responsable de generar el indicador | B15: Profesional Universitario Grado 04 de Servicio de Atención al Ciudadano | G15: Responsable del seguimiento del indicador | H15: Profesional Universitario Grado 04 de Servicio de Atención al Ciudadano
A16: Línea de base | B16: 0.8 | E16: Meta | F16: 100 | G16: Rangos de evaluación | H16: Bueno: 80% a 100 % | I16: Regular: 79% a 60 % | J16: Malo: Inferior al 59%
B19: -ATENCIÓN AL CIUDADANO- | E19: GESTIONAR SOLICITUDES Y CORRESPONDENCIA HOJA DE VIDA DE INDICADORES POR PROCESO | I19: Código | J19: E01.002
I20: Página | J20: de
I21: Versión | J21: 4.0
I22: Vigencia | J22: 41229
A23: SEGUIMIENTO AL INDICADOR EFECTIVIDAD EN LA RESPUESTA
A24: Fecha | B24: Meta | C24: Logro | D24: % Logro | E24: Observaciones del Resultado | F24: Acciones de mejoramiento requeridas | H24: Responsable | I24: Fecha Limite | J24: Estado Acciones
A25: 41670 | B25: =+F16 -> 100 | C25: =95.17/100 -> 0.9517 | D25: =+(C25/B25)*100 -> 0.9517 | E25: Se observa un buen resultado en este indicador, evidenciando una vez más el compromiso de los funcionarios en responder a tiempo los requerimientos. | F25: Seguimiento y acompañamiento a las dependencias involucradas en el SAC, realizar reuniones periodicas con los coordinadores para determinar los puntos débiles. Esto se analiza en comitès directivos donde se observa el apoyo de los lideres de cada proceso con el personal a cargo | H25: Atención al Ciudadano. - Coordinadores dependencias | I25: 41670 | J25: Cumplido
A26: 41698 | B26: =+F16 -> 100 | C26: =97.43/100 -> 0.9743 | D26: =+(C26/B26)*100 -> 0.9743 | E26: Se mantiene en un buen nivel de respuesta, en este mes se incrementaron los requerimientos que ingresaron a la SED | F26: Seguimiento y acompañamiento a las dependencias involucradas en el SAC, realizar reuniones periodicas con los coordinadores para determinar los puntos débiles. Esto se analiza en comitès directivos donde se observa el apoyo de los lideres de cada proceso con el personal a cargo | H26: Atención al Ciudadano. - Coordinadores dependencias | I26: 41698 | J26: Cumplido
A27: 41728 | B27: =+F16 -> 100 | C27: =93.28/100 -> 0.9328 | D27: =+(C27/B27)*100 -> 0.9328 | E27: Se presenta un leve disminucion con relación al mes anterior, sin embargo se busca sobrepasar el 80% proyectado como linea de base | F27: Seguimiento y acompañamiento a las dependencias involucradas en el SAC, realizar reuniones periodicas con los coordinadores para determinar los puntos débiles. Esto se analiza en comitès directivos donde se observa el apoyo de los lideres de cada proceso con el personal a cargo | H27: Atención al Ciudadano. - Coordinadores dependencias | I27: 41728 | J27: Cumplido
A28: 31/04/2014 | B28: =+F16 -> 100 | C28: =97.29/100 -> 0.9729 | D28: =+(C28/B28)*100 -> 0.9729 | E28: A pesar de todos los inconvenientes presentados, se observa cumplimiento general en todos los requerimientos y en la efectiva respuesta dada a cada uno de sus peticiones asignadas. | F28: Seguimiento y acompañamiento a las dependencias involucradas en el SAC, realizar reuniones periodicas con los coordinadores para determinar los puntos débiles. Esto se analiza en comitès directivos donde se observa el apoyo de los lideres de cada proceso con el personal a cargo | H28: Atención al Ciudadano. - Coordinadores dependencias | I28: 31/04/2014 | J28: Cumplido
A29: 41790 | B29: =+B28 -> 100 | C29: =93.27/100 -> 0.9327 | D29: =+(C29/B30)*100 -> 0.9327 | E29: Una vez mas la efectividad de respuesta se ve disminuida pero se mantiene en buen nivel de satisfacciòn de acuerdo a la meta propuesta, pese a que en este mes se incrementaron los requerimientos | F29: Seguimiento y acompañamiento a las dependencias involucradas en el SAC, realizar reuniones periodicas con los coordinadores para determinar los puntos débiles. Esto se analiza en comitès directivos donde se observa el apoyo de los lideres de cada proceso con el personal a cargo | H29: Atención al Ciudadano. - Coordinadores dependencias | I29: 41790 | J29: Cumplido
A30: 41820 | B30: =+B25 -> 100 | C30: =95.91/100 -> 0.9591 | D30: =+(C30/B30)*100 -> 0.9591 | E30: Se observa un buen resultado en este indicador, evidenciando una vez más el compromiso de los funcionarios en responder a tiempo los requerimientos. | F30: Seguimiento y acompañamiento a las dependencias involucradas en el SAC, realizar reuniones periodicas con los coordinadores para determinar los puntos débiles. Esto se analiza en comitès directivos donde se observa el apoyo de los lideres de cada proceso con el personal a cargo | H30: Atención al Ciudadano. - Coordinadores dependencias | I30: 41820 | J30: Cumplido
A31: 41851 | B31: =+B30 -> 100 | C31: =88.85/100 -> 0.8885 | D31: =+(C31/B31)*100 -> 0.8885 | E31: Una vez mas la efectividad de respuesta se ve disminuida pero se mantiene en buen nivel de satisfacciòn de acuerdo a la meta propuesta, pese a que en este mes se incrementaron los requerimientos | F31: Seguimiento y acompañamiento a las dependencias involucradas en el SAC, realizar reuniones periodicas con los coordinadores para determinar los puntos débiles. Esto se analiza en comitès directivos donde se observa el apoyo de los lideres de cada proceso con el personal a cargo | H31: Atención al Ciudadano. - Coordinadores dependencias | I31: 41851 | J31: Cumplido
A32: 43861 | B32: 100 | C32: 0.9678 | D32: =+C32*100% -> 0.9678 | E32: El porcentaje de oportunidad de la Secretaria de Educación esta en los rangos superiores, observando oportunidad en la respuestas brindadas por los funciionarios. | F32: Seguimiento y acompañamiento a las dependencias involucradas en el SAC, realizar reuniones periodicas con los coordinadores para determinar los puntos débiles cuando hubiere lugar. | H32: Atención al Ciudadano. - Coordinadores dependencias | I32: 43861 | J32: Cumplido
A33: 43889 | B33: 100 | C33: 0.9602 | D33: =+C33*100% -> 0.9602 | E33: El porcentaje de oportunidad de la Secretaria de Educación esta en los rangos superiores, observando oportunidad en la respuestas brindadas por los funciionarios. | F33: Seguimiento y acompañamiento a las dependencias involucradas en el SAC, realizar reuniones periodicas con los coordinadores para determinar los puntos débiles cuando hubiere lugar. | H33: Atención al Ciudadano. - Coordinadores dependencias | I33: 43889 | J33: Cumplido
A34: 43921 | B34: 100 | C34: 0.9602 | D34: =+C34*100% -> 0.9602 | E34: El porcentaje de oportunidad de la Secretaria de Educación esta en los rangos superiores, observando oportunidad en la respuestas brindadas por los funciionarios. | F34: Seguimiento y acompañamiento a las dependencias involucradas en el SAC, realizar reuniones periodicas con los coordinadores para determinar los puntos débiles cuando hubiere lugar. | H34: Atención al Ciudadano. - Coordinadores dependencias | I34: 43921 | J34: Cumplido
A35: 43951 | B35: 100 | C35: 0.9784 | D35: =+C35*100% -> 0.9784 | E35: El porcentaje de oportunidad de la Secretaria de Educación esta en los rangos superiores, observando oportunidad en la respuestas brindadas por los funciionarios. | F35: Seguimiento y acompañamiento a las dependencias involucradas en el SAC, realizar reuniones periodicas con los coordinadores para determinar los puntos débiles cuando hubiere lugar. | H35: Atención al Ciudadano. - Coordinadores dependencias | I35: 43951 | J35: Cumplido
A36: 43982 | B36: 100 | C36: 0.9728 | D36: =+C36*100% -> 0.9728 | E36: El porcentaje de oportunidad de la Secretaria de Educación esta en los rangos superiores, observando oportunidad en la respuestas brindadas por los funciionarios. | F36: Seguimiento y acompañamiento a las dependencias involucradas en el SAC, realizar reuniones periodicas con los coordinadores para determinar los puntos débiles cuando hubiere lugar. | H36: Atención al Ciudadano. - Coordinadores dependencias | I36: 43982 | J36: Cumplido
A37: 44012 | B37: 100 | D37: =+C37*100% -> 0 | E37: El porcentaje de oportunidad de la Secretaria de Educación esta en los rangos superiores, observando oportunidad en la respuestas brindadas por los funciionarios. | I37: 44012
A38: 31/06/2020 | B38: 100 | C38: 0.9728 | D38: =+C38*100% -> 0.9728 | E38: El porcentaje de oportunidad de la Secretaria de Educación esta en los rangos superiores, observando oportunidad en la respuestas brindadas por los funciionarios. | F38: Seguimiento y acompañamiento a las dependencias involucradas en el SAC, realizar reuniones periodicas con los coordinadores para determinar los puntos débiles cuando hubiere lugar. | H38: Atención al Ciudadano. - Coordinadores dependencias | I38: 44012 | J38: Cumplido
A39: 44043 | B39: 100 | C39: 0.9824 | D39: =+C39*100% -> 0.9824 | E39: El porcentaje de oportunidad de la Secretaria de Educación esta en los rangos superiores, observando oportunidad en la respuestas brindadas por los funciionarios. | F39: Seguimiento y acompañamiento a las dependencias involucradas en el SAC, realizar reuniones periodicas con los coordinadores para determinar los puntos débiles cuando hubiere lugar. | H39: Atención al Ciudadano. - Coordinadores dependencias | I39: 44043 | J39: Cumplido
A40: 44073 | B40: 100 | C40: 0.9926 | D40: =+C40*100% -> 0.9926 | E40: El porcentaje de oportunidad de la Secretaria de Educación esta en los rangos superiores, observando oportunidad en la respuestas brindadas por los funciionarios. | F40: Seguimiento y acompañamiento a las dependencias involucradas en el SAC, realizar reuniones periodicas con los coordinadores para determinar los puntos débiles cuando hubiere lugar. | H40: Atención al Ciudadano. - Coordinadores dependencias | I40: 44074 | J40: Cumplido
A41: 31/09/2020 | B41: 100 | C41: 0.9928 | D41: =+C41*100% -> 0.9928 | E41: A pesar de tener vencimiento en 20 peticiones, el porcentaje de oportunidad de respuesta se mantiene alto. Esto se debe al trabajo continuio del equipo de trabajo de la Secretaria de Educación de Nariño | F41: Seguimiento y acompañamiento a las dependencias involucradas en el SAC, realizar reuniones periodicas con los coordinadores para determinar los puntos débiles cuando hubiere lugar. | H41: Atención al Ciudadano. - Coordinadores dependencias | I41: 44104 | J41: Cumplido
A42: 44134 | B42: 100 | C42: 0.9967 | D42: =+C42*100% -> 0.9967 | E42: Se logro la reducción de requerimientos vencidos a 8, es por ello que la oportunidad de respuesta es mas favorable para la Secretaria de Educación de Nariño. | F42: Seguimiento y acompañamiento a las dependencias involucradas en el SAC, realizar reuniones periodicas con los coordinadores para determinar los puntos débiles cuando hubiere lugar. | H42: Atención al Ciudadano. - Coordinadores dependencias | I42: 31/10/2020| | J42: Cumplido
A43: 31/11/2020 | B43: 100 | C43: 0.9949 | D43: =+C43*100% -> 0.9949 | E43: A pesar de existir requerimientos vencidos, la cantidad de peticiones que llegan a la Secretaria es mayor, pero existe oportunidad en la respuesta brindada y se mantiene en un rango de bueno | F43: Seguimiento y acompañamiento a las dependencias involucradas en el SAC, realizar reuniones periodicas con los coordinadores para determinar los puntos débiles cuando hubiere lugar. | H43: Atención al Ciudadano. - Coordinadores dependencias | I43: 30/11/2020| | J43: Cumplido
A44: 44196 | B44: 100 | C44: 0.9866 | D44: =+C44*100% -> 0.9866 | E44: Se reitera el conpromiso de la mayoria de funcioarios de la Secretaria en la contestacin de peticiones, a pesar que existen requerimeintos vencidos | F44: Seguimiento y acompañamiento a las dependencias involucradas en el SAC, realizar reuniones periodicas con los coordinadores para determinar los puntos débiles cuando hubiere lugar. | H44: Atención al Ciudadano. - Coordinadores dependencias | I44: 44561 | J44: Cumplido

Sheet GRAFICO EFEC
B4: Rangos de evaluación | C4: Bueno: 80% a 100 % | D4: Regular: 79% a 60 % | E4: Malo: Inferior al 59%
B5: Fecha | C5: Meta | D5: Logro | E5: % Logro
B6: 43861 | C6: 100 | D6: =+'E01.002 EFECT RTA'!C32 -> 0.9678 | E6: =+'E01.002 EFECT RTA'!D32 -> 0.9678
B7: 43889 | C7: 100 | D7: =+'E01.002 EFECT RTA'!C33 -> 0.9602 | E7: =+'E01.002 EFECT RTA'!D33 -> 0.9602
B8: 43921 | C8: 100 | D8: =+'E01.002 EFECT RTA'!D34 -> 0.9602 | E8: =+'E01.002 EFECT RTA'!D34 -> 0.9602
B9: 43951 | C9: 100 | D9: =+'E01.002 EFECT RTA'!D35 -> 0.9784 | E9: 0.9784
B10: 43982 | C10: 100 | D10: =+'E01.002 EFECT RTA'!C36 -> 0.9728 | E10: 0.9728
B11: 44012 | C11: 100 | D11: =+'E01.002 EFECT RTA'!C38 -> 0.9728 | E11: =+'E01.002 EFECT RTA'!D38 -> 0.9728
B12: 44043 | C12: 100 | D12: =+'E01.002 EFECT RTA'!C39 -> 0.9824 | E12: =+'E01.002 EFECT RTA'!D39 -> 0.9824
B13: 44074 | C13: 100 | D13: =+'E01.002 EFECT RTA'!C40 -> 0.9926 | E13: =+'E01.002 EFECT RTA'!D40 -> 0.9926
B14: 44104 | C14: 100 | D14: 0.9928 | E14: =+'E01.002 EFECT RTA'!D41 -> 0.9928
B15: 44135 | C15: 100 | D15: =+'E01.002 EFECT RTA'!D42 -> 0.9967 | E15: =+'E01.002 EFECT RTA'!D42 -> 0.9967
B16: 44165 | C16: 100 | D16: 0.9949 | E16: =+'E01.002 EFECT RTA'!D43 -> 0.9949
B17: 44196 | C17: 100 | D17: 0.9866 | E17: =+'E01.002 EFECT RTA'!D44 -> 0.9866

Sheet Ranking
B3: PUESTO RANKING
B4: MES | D4: LUGAR
B5: ENERO | D5: 23
B6: FEBRERO | D6: 32
B7: MARZO | D7: 32
B8: ABRIL | D8: 23
B9: MAYO | D9: 16
B10: JUNIO | D10: 29
B11: JULIO | D11: 21
B12: AGOSTO | D12: 14
B13: SEPTIEMBRE | D13: 31
B14: OCTUBRE | D14: 19
B15: NOVIEMBRE | D15: 18
B16: DICIEMBRE | D16: 22

Sheet E02.001 SATISFACCION 2020
A1: SEGUIMIENTO AL INDICADOR
A2: Fecha | B2: Meta | C2: Logro | D2: % Logro | E2: Observaciones del Resultado | F2: Acciones de mejoramiento requeridas | H2: Responsable | I2: Fecha Limite | J2: Estado Acciones
A3: 44105 | B3: 1 | D3: 1 | E3: La encuesta de Satisfacción será aplicada a partir del 3 de octubre con corte a 30 de Diciembre de 2020 | H3: Dependencias SED/ Atención al Ciudadano | I3: 44195

Sheet E02.001 SATISFACCION CLIENTE
B2: -ATENCIÓN AL CIUDADANO- | E2: DESARROLLAR Y MANTENER RELACIONES CON EL CIUDADANO HOJA DE VIDA DE INDICADORES POR PROCESO | I2: Código | J2: E02.001
I3: Página | J3: 1 de 2
I4: Versión | J4: 5.0
I5: Vigencia | J5: 42440
A6: DEFINICIÓN DEL INDICADOR
A7: Código del Indicador | B7: E02.001 | E7: Nombre del indicador | F7: CUMPLIMIENTO DE LAS MEDICIONES DE SATISFACCIÓN DEL CLIENTE | I7: Tipo de indicador | J7: Proceso
I8: Tablero Indicadores | J8: NO
A10: Objetivo del indicador | B10: Determinar el cumplimiento en la gestión de las mediciones de satisfacción del cliente programadas | G10: Pertinencia del Indicador | H10: Con el fin de conocer la satisfacción de los clientes con respecto a los servicios que presta la Secretaría, se programa, en el plan de acción, el número de encuestas a realizar a los clientes. Por lo tanto, se requiere medir el cumplimiento de la meta fijada.
A11: Unidad de medida | B11: Porcentaje | G11: Definición de variables de la Fórmula | H11: CMSC: Cumplimiento en la medición de la satisfacción del cliente NME: Número de mediciones de satisfacción del cliente efectuadas en el año NMP: Número de mediciones de satisfacción del cliente programadas en el año
A12: Fórmula para su Cálculo | B12: CMSC = (NME / NMP) * 100 | G12: Aspectos metodológicos | H12: En el periodo estimado por la Secretaría en el Plan de Acción, se aplican las encuestas de Satisfacción del Servicio a los clientes seleccionados a través de un método estadístico. Las encuestas diligenciadas se compara con la meta programada obteniéndose de esta manera el porcentaje de cumplimiento de las mediciones de la satisfacción del cliente.
A13: Fuente de los datos | B13: Seguimiento a la ejecución del plan de acción del área encargada de las comunicaciones de la Secretaría | G13: Periodicidad / Fechas de medición | H13: Anual
A14: Responsable de generar el indicador | B14: Profesional Universitario de Archivo y Correspondencia | G14: Responsable del seguimiento del indicador | H14: Profesional Universitario de Servicio de Atención al Ciudadano
A15: Línea de base | B15: 1 | E15: Meta | F15: 1 | G15: Rangos de evaluación
B18: -ATENCIÓN AL CIUDADANO- | E18: DESARROLLAR Y MANTENER RELACIONES CON EL CIUDADANO HOJA DE VIDA DE INDICADORES POR PROCESO | I18: Código | J18: E02.001
I19: Página | J19: 2 de 2
I20: Versión | J20: 4.0
I21: Vigencia | J21: 41229
A22: SEGUIMIENTO AL INDICADOR
A23: Fecha | B23: Meta | C23: Logro | D23: % Logro | E23: Observaciones del Resultado | F23: Acciones de mejoramiento requeridas | H23: Responsable | I23: Fecha Limite | J23: Estado Acciones
A24: 1//2019 | B24: =+F15 -> 1 | C24: 3013 | D24: 1 | E24: La encuesta de Satisfacción fué aplicada a partir del 1 de junio con corte a 30 de Diciembre de 2019 | F24: De acuerdo a lo manifestado en la encuesta se pudo evidenciar que la satisfacción en los servicios prestados por la Secretaria de Educción de Nariño, se encuentran en los siguientes rango de evaluación: ACTITUD Y TRATO en calificación de excelente entre el 43% y 50%, y en rango de bueno entre el 38% y 48%. Con respecto a TIEMPO DE RESPUESTA en calificación de excelente entre el 45% y 51% y en bueno entre 40% y 42% y en la pregunta de LA PAGINA WEB de la Secretaria en excelente esta calificada con el 32% y bueno con el 55% | H24: Dependencias SED/ Atención al Ciudadano | I24: 43829

Sheet E02.001 SATISFACCION 2019
A1: SEGUIMIENTO AL INDICADOR
A2: Fecha | B2: Meta | C2: Logro | D2: % Logro | E2: Observaciones del Resultado | F2: Acciones de mejoramiento requeridas | H2: Responsable | I2: Fecha Limite | J2: Estado Acciones
A3: 1//2019 | B3: 1 | C3: 3013 | D3: 1 | E3: La encuesta de Satisfacción fué aplicada a partir del 1 de junio con corte a 30 de Diciembre de 2019 | F3: De acuerdo a lo manifestado en la encuesta se pudo evidenciar que la satisfacción en los servicios prestados por la Secretaria de Educción de Nariño, se encuentran en los siguientes rango de evaluación: ACTITUD Y TRATO en calificación de excelente entre el 43% y 50%, y en rango de bueno entre el 38% y 48%. Con respecto a TIEMPO DE RESPUESTA en calificación de excelente entre el 45% y 51% y en bueno entre 40% y 42% y en la pregunta de LA PAGINA WEB de la Secretaria en excelente esta calificada con el 32% y bueno con el 55% | H3: Dependencias SED/ Atención al Ciudadano | I3: 43829
